BEGIN:VCALENDAR
VERSION:2.0
PRODID:-//Unibet Poker - ECPv6.15.20//NONSGML v1.0//EN
CALSCALE:GREGORIAN
METHOD:PUBLISH
X-WR-CALNAME:Unibet Poker
X-ORIGINAL-URL:https://unibetpoker.com
X-WR-CALDESC:Events for Unibet Poker
REFRESH-INTERVAL;VALUE=DURATION:PT1H
X-Robots-Tag:noindex
X-PUBLISHED-TTL:PT1H
BEGIN:VTIMEZONE
TZID:UTC
BEGIN:STANDARD
TZOFFSETFROM:+0000
TZOFFSETTO:+0000
TZNAME:UTC
DTSTART:20230101T000000
END:STANDARD
END:VTIMEZONE
BEGIN:VEVENT
DTSTART;VALUE=DATE:20240531
DTEND;VALUE=DATE:20240610
DTSTAMP:20260420T012749
CREATED:20240205T112317Z
LAST-MODIFIED:20240205T112317Z
UID:1192-1717113600-1717977599@unibetpoker.com
SUMMARY:The Festival Rozvadov 2024
DESCRIPTION:
URL:https://unibetpoker.com/event/the-festival-rozvadov-2024
LOCATION:King’s Casino\, Rozvadov 7\, Rozvadov\, 348 06\, Czech Republic
CATEGORIES:Live Event,Live Events
END:VEVENT
END:VCALENDAR