BEGIN:VCALENDAR
VERSION:2.0
PRODID:-//Unibet Poker - ECPv6.15.20//NONSGML v1.0//EN
CALSCALE:GREGORIAN
METHOD:PUBLISH
X-ORIGINAL-URL:https://unibetpoker.com
X-WR-CALDESC:Events for Unibet Poker
REFRESH-INTERVAL;VALUE=DURATION:PT1H
X-Robots-Tag:noindex
X-PUBLISHED-TTL:PT1H
BEGIN:VTIMEZONE
TZID:UTC
BEGIN:STANDARD
TZOFFSETFROM:+0000
TZOFFSETTO:+0000
TZNAME:UTC
DTSTART:20230101T000000
END:STANDARD
END:VTIMEZONE
BEGIN:VEVENT
DTSTART;VALUE=DATE:20240920
DTEND;VALUE=DATE:20240930
DTSTAMP:20260420T032225
CREATED:20240405T185707Z
LAST-MODIFIED:20240710T122323Z
UID:2066-1726790400-1727654399@unibetpoker.com
SUMMARY:UDSO Marrakech 2024
DESCRIPTION:See more about the event on UDSO Marrakech 2024 – Unibet DeepStack Open \nPackage includes: \n\n€550 Main Event buy-in\nHotel stay including 1 guest (5 nights incl. breakfast and dinner)\n€400 travel money
URL:https://unibetpoker.com/event/udso-marrakech-2024
LOCATION:Casino de Marrakech\, El Mazini\, Rue Hafid Ibrahim\, Marrakech\, 40000\, Morocco
CATEGORIES:Live Event,Live Events
END:VEVENT
END:VCALENDAR