BEGIN:VCALENDAR
VERSION:2.0
PRODID:-//Unibet Poker - ECPv6.15.20//NONSGML v1.0//EN
CALSCALE:GREGORIAN
METHOD:PUBLISH
X-ORIGINAL-URL:https://unibetpoker.com
X-WR-CALDESC:Events for Unibet Poker
REFRESH-INTERVAL;VALUE=DURATION:PT1H
X-Robots-Tag:noindex
X-PUBLISHED-TTL:PT1H
BEGIN:VTIMEZONE
TZID:UTC
BEGIN:STANDARD
TZOFFSETFROM:+0000
TZOFFSETTO:+0000
TZNAME:UTC
DTSTART:20230101T000000
END:STANDARD
END:VTIMEZONE
BEGIN:VEVENT
DTSTART;VALUE=DATE:20241029
DTEND;VALUE=DATE:20241104
DTSTAMP:20260419T234040
CREATED:20240920T105038Z
LAST-MODIFIED:20240920T105249Z
UID:2925-1730160000-1730678399@unibetpoker.com
SUMMARY:UDSO Annecy 2024
DESCRIPTION:See more about the event on UDSO Annecy 2024 – Unibet DeepStack Open \nThe full package for Annecy includes: \n\n€550 Main Event buy-in\nHotel stay from 31st Oct to 4th Nov (breakfast included\, no guest)\n€400 travel money
URL:https://unibetpoker.com/event/udso-annecy-2024
LOCATION:Casino Imperial\, Annecy\, Casino Imperial\, all Impérial\, Annecy\, 74000\, France
CATEGORIES:Live Event,Live Events
END:VEVENT
BEGIN:VEVENT
DTSTART;VALUE=DATE:20241031
DTEND;VALUE=DATE:20241105
DTSTAMP:20260419T234040
CREATED:20240710T122153Z
LAST-MODIFIED:20240710T122153Z
UID:2739-1730332800-1730764799@unibetpoker.com
SUMMARY:MPF Malta – UDSO Gold 2024
DESCRIPTION:See more about the event on MPF Malta – UDSO Gold 2024 – Unibet DeepStack Open \nPackage includes: \n\n€550 Main Event buy-in\nHotel stay (4 nights incl. breakfast and dinner). Guest NOT included\n€400 travel money
URL:https://unibetpoker.com/event/mpf-malta-udso-gold-2024
LOCATION:Casino Portomaso\, Portomaso\, St Julians\, Malta
CATEGORIES:Live Event,Live Events
END:VEVENT
BEGIN:VEVENT
DTSTART;TZID=UTC:20240509T200500
DTEND;TZID=UTC:20240509T233000
DTSTAMP:20260419T234040
CREATED:20240511T202002Z
LAST-MODIFIED:20240511T202004Z
UID:2510-1715285100-1715297400@unibetpoker.com
SUMMARY:UDSO Package Final - 2x €1\,500 packages
DESCRIPTION:Win a package to the Unibet Deep Stack Open! You can currently qualify for: UDSO/MPF Malta\, UDSO Barcelona\, UDSO Sanremo. \nThe package contains: \n\n€550 Main event buyin\n€400 travel/spending money\nHotel stay\n\nMalta 4 nights\, no guest\nBarcelona 3 nights\, with guest\nSanremo 4 nights\, no guest\nMarrakech 5 nights\, with guest\n\n\n\nThe ticket won in the qualifier is merely a placeholder and it does not matter whether it expires. \nYour name and email will be shared with the event organizers\, if you win a package. The organizers will contact you within 5 working days. \nUnibet live event terms and conditions apply. \nSee more about UDSO on https://www.deepstackopen.com/
URL:https://unibetpoker.com/event/udso-package-final-2x-e1500-packages-2
LOCATION:Kerry
CATEGORIES:Live Event Qualifier Final,Live Events
END:VEVENT
END:VCALENDAR