BEGIN:VCALENDAR
VERSION:2.0
PRODID:-//Unibet Poker - ECPv6.15.20//NONSGML v1.0//EN
CALSCALE:GREGORIAN
METHOD:PUBLISH
X-WR-CALNAME:Unibet Poker
X-ORIGINAL-URL:https://unibetpoker.com
X-WR-CALDESC:Events for Unibet Poker
REFRESH-INTERVAL;VALUE=DURATION:PT1H
X-Robots-Tag:noindex
X-PUBLISHED-TTL:PT1H
BEGIN:VTIMEZONE
TZID:UTC
BEGIN:STANDARD
TZOFFSETFROM:+0000
TZOFFSETTO:+0000
TZNAME:UTC
DTSTART:20230101T000000
END:STANDARD
END:VTIMEZONE
BEGIN:VEVENT
DTSTART;VALUE=DATE:20241118
DTEND;VALUE=DATE:20241125
DTSTAMP:20260420T012839
CREATED:20240205T112844Z
LAST-MODIFIED:20240205T113049Z
UID:1205-1731888000-1732492799@unibetpoker.com
SUMMARY:The Festival Bratislava 2024
DESCRIPTION:
URL:https://unibetpoker.com/event/the-festival-bratislava-2024
LOCATION:Banco Casino\, Crowne Plaza 816 25\, Hodžovo námestie 568/2\, Bratislava\, 811 06\, Slovakia (Slovak Republic)
CATEGORIES:Live Event,Live Events
END:VEVENT
END:VCALENDAR