BEGIN:VCALENDAR
VERSION:2.0
PRODID:-//Unibet Poker - ECPv6.15.20//NONSGML v1.0//EN
CALSCALE:GREGORIAN
METHOD:PUBLISH
X-ORIGINAL-URL:https://unibetpoker.com
X-WR-CALDESC:Events for Unibet Poker
REFRESH-INTERVAL;VALUE=DURATION:PT1H
X-Robots-Tag:noindex
X-PUBLISHED-TTL:PT1H
BEGIN:VTIMEZONE
TZID:UTC
BEGIN:STANDARD
TZOFFSETFROM:+0000
TZOFFSETTO:+0000
TZNAME:UTC
DTSTART:20230101T000000
END:STANDARD
END:VTIMEZONE
BEGIN:VEVENT
DTSTART;VALUE=DATE:20241212
DTEND;VALUE=DATE:20241217
DTSTAMP:20260419T234106
CREATED:20241028T173255Z
LAST-MODIFIED:20241028T174008Z
UID:2957-1733961600-1734393599@unibetpoker.com
SUMMARY:UDSO La Grande Motte 2024
DESCRIPTION:See more about the event on UDSO La Grande Motte 2024 – Unibet DeepStack Open \nThe full package for La Grande Motte includes: \n\n€550 Main Event buy-in\nHotel stay from 12th to 16th December at Mercure Hotel\n€400 travel money
URL:https://unibetpoker.com/event/udso-la-grande-motte-2024
LOCATION:Pasino Partouche Grande Motteas
CATEGORIES:Live Event,Live Events
END:VEVENT
END:VCALENDAR