BEGIN:VCALENDAR
VERSION:2.0
PRODID:-//Unibet Poker - ECPv6.15.20//NONSGML v1.0//EN
CALSCALE:GREGORIAN
METHOD:PUBLISH
X-WR-CALNAME:Unibet Poker
X-ORIGINAL-URL:https://unibetpoker.com
X-WR-CALDESC:Events for Unibet Poker
REFRESH-INTERVAL;VALUE=DURATION:PT1H
X-Robots-Tag:noindex
X-PUBLISHED-TTL:PT1H
BEGIN:VTIMEZONE
TZID:UTC
BEGIN:STANDARD
TZOFFSETFROM:+0000
TZOFFSETTO:+0000
TZNAME:UTC
DTSTART:20230101T000000
END:STANDARD
END:VTIMEZONE
BEGIN:VEVENT
DTSTART;VALUE=DATE:20240611
DTEND;VALUE=DATE:20240617
DTSTAMP:20260420T073407
CREATED:20240205T110931Z
LAST-MODIFIED:20240513T091859Z
UID:1183-1718064000-1718582399@unibetpoker.com
SUMMARY:UDSO Barcelona 2024
DESCRIPTION:This event is now fully booked for packages
URL:https://unibetpoker.com/event/udso-barcelona-2024
LOCATION:Casino Barcelona\, Carrer de la Marina\, 19\, 21\, Ciutat Vella\, Barcelona\, 08005\, Spain
CATEGORIES:Live Event,Live Events
END:VEVENT
BEGIN:VEVENT
DTSTART;TZID=UTC:20240207T210000
DTEND;TZID=UTC:20240207T233000
DTSTAMP:20260420T073407
CREATED:20240205T110057Z
LAST-MODIFIED:20240205T110057Z
UID:1175-1707339600-1707348600@unibetpoker.com
SUMMARY:UDSO Seat Only Final - 1x €550 Seat
DESCRIPTION:Seat-only qualifier for the UDSO. The ticket won in the qualifier is merely a placeholder and it does not matter whether it expires. \nThe seat can be used for any UDSO event with a €550 buyin. \nYour name and email will be shared with the event organizers\, if you win a seat. The organizers will contact you within 5 working days. \nUnibet live event terms and conditions apply. \nSee more about UDSO on https://www.deepstackopen.com/
URL:https://unibetpoker.com/event/udso-seat-only-final-1x-e550-seat
CATEGORIES:Live Event Qualifier Final,Live Events
END:VEVENT
BEGIN:VEVENT
DTSTART;TZID=UTC:20240509T200500
DTEND;TZID=UTC:20240509T233000
DTSTAMP:20260420T073407
CREATED:20240511T202002Z
LAST-MODIFIED:20240511T202004Z
UID:2510-1715285100-1715297400@unibetpoker.com
SUMMARY:UDSO Package Final - 2x €1\,500 packages
DESCRIPTION:Win a package to the Unibet Deep Stack Open! You can currently qualify for: UDSO/MPF Malta\, UDSO Barcelona\, UDSO Sanremo. \nThe package contains: \n\n€550 Main event buyin\n€400 travel/spending money\nHotel stay\n\nMalta 4 nights\, no guest\nBarcelona 3 nights\, with guest\nSanremo 4 nights\, no guest\nMarrakech 5 nights\, with guest\n\n\n\nThe ticket won in the qualifier is merely a placeholder and it does not matter whether it expires. \nYour name and email will be shared with the event organizers\, if you win a package. The organizers will contact you within 5 working days. \nUnibet live event terms and conditions apply. \nSee more about UDSO on https://www.deepstackopen.com/
URL:https://unibetpoker.com/event/udso-package-final-2x-e1500-packages-2
CATEGORIES:Live Event Qualifier Final,Live Events
END:VEVENT
BEGIN:VEVENT
DTSTART;TZID=UTC:20240207T210000
DTEND;TZID=UTC:20240207T233000
DTSTAMP:20260420T073407
CREATED:20240205T110057Z
LAST-MODIFIED:20240205T110057Z
UID:1175-1707339600-1707348600@unibetpoker.com
SUMMARY:UDSO Seat Only Final - 1x €550 Seat
DESCRIPTION:Seat-only qualifier for the UDSO. The ticket won in the qualifier is merely a placeholder and it does not matter whether it expires. \nThe seat can be used for any UDSO event with a €550 buyin. \nYour name and email will be shared with the event organizers\, if you win a seat. The organizers will contact you within 5 working days. \nUnibet live event terms and conditions apply. \nSee more about UDSO on https://www.deepstackopen.com/
URL:https://unibetpoker.com/event/udso-seat-only-final-1x-e550-seat
CATEGORIES:Live Event Qualifier Final,Live Events
END:VEVENT
BEGIN:VEVENT
DTSTART;TZID=UTC:20240509T200500
DTEND;TZID=UTC:20240509T233000
DTSTAMP:20260420T073407
CREATED:20240511T202002Z
LAST-MODIFIED:20240511T202004Z
UID:2510-1715285100-1715297400@unibetpoker.com
SUMMARY:UDSO Package Final - 2x €1\,500 packages
DESCRIPTION:Win a package to the Unibet Deep Stack Open! You can currently qualify for: UDSO/MPF Malta\, UDSO Barcelona\, UDSO Sanremo. \nThe package contains: \n\n€550 Main event buyin\n€400 travel/spending money\nHotel stay\n\nMalta 4 nights\, no guest\nBarcelona 3 nights\, with guest\nSanremo 4 nights\, no guest\nMarrakech 5 nights\, with guest\n\n\n\nThe ticket won in the qualifier is merely a placeholder and it does not matter whether it expires. \nYour name and email will be shared with the event organizers\, if you win a package. The organizers will contact you within 5 working days. \nUnibet live event terms and conditions apply. \nSee more about UDSO on https://www.deepstackopen.com/
URL:https://unibetpoker.com/event/udso-package-final-2x-e1500-packages-2
CATEGORIES:Live Event Qualifier Final,Live Events
END:VEVENT
BEGIN:VEVENT
DTSTART;TZID=UTC:20240207T210000
DTEND;TZID=UTC:20240207T233000
DTSTAMP:20260420T073407
CREATED:20240205T110057Z
LAST-MODIFIED:20240205T110057Z
UID:1175-1707339600-1707348600@unibetpoker.com
SUMMARY:UDSO Seat Only Final - 1x €550 Seat
DESCRIPTION:Seat-only qualifier for the UDSO. The ticket won in the qualifier is merely a placeholder and it does not matter whether it expires. \nThe seat can be used for any UDSO event with a €550 buyin. \nYour name and email will be shared with the event organizers\, if you win a seat. The organizers will contact you within 5 working days. \nUnibet live event terms and conditions apply. \nSee more about UDSO on https://www.deepstackopen.com/
URL:https://unibetpoker.com/event/udso-seat-only-final-1x-e550-seat
CATEGORIES:Live Event Qualifier Final,Live Events
END:VEVENT
BEGIN:VEVENT
DTSTART;TZID=UTC:20240509T200500
DTEND;TZID=UTC:20240509T233000
DTSTAMP:20260420T073407
CREATED:20240511T202002Z
LAST-MODIFIED:20240511T202004Z
UID:2510-1715285100-1715297400@unibetpoker.com
SUMMARY:UDSO Package Final - 2x €1\,500 packages
DESCRIPTION:Win a package to the Unibet Deep Stack Open! You can currently qualify for: UDSO/MPF Malta\, UDSO Barcelona\, UDSO Sanremo. \nThe package contains: \n\n€550 Main event buyin\n€400 travel/spending money\nHotel stay\n\nMalta 4 nights\, no guest\nBarcelona 3 nights\, with guest\nSanremo 4 nights\, no guest\nMarrakech 5 nights\, with guest\n\n\n\nThe ticket won in the qualifier is merely a placeholder and it does not matter whether it expires. \nYour name and email will be shared with the event organizers\, if you win a package. The organizers will contact you within 5 working days. \nUnibet live event terms and conditions apply. \nSee more about UDSO on https://www.deepstackopen.com/
URL:https://unibetpoker.com/event/udso-package-final-2x-e1500-packages-2
CATEGORIES:Live Event Qualifier Final,Live Events
END:VEVENT
BEGIN:VEVENT
DTSTART;TZID=UTC:20240207T210000
DTEND;TZID=UTC:20240207T233000
DTSTAMP:20260420T073407
CREATED:20240205T110057Z
LAST-MODIFIED:20240205T110057Z
UID:1175-1707339600-1707348600@unibetpoker.com
SUMMARY:UDSO Seat Only Final - 1x €550 Seat
DESCRIPTION:Seat-only qualifier for the UDSO. The ticket won in the qualifier is merely a placeholder and it does not matter whether it expires. \nThe seat can be used for any UDSO event with a €550 buyin. \nYour name and email will be shared with the event organizers\, if you win a seat. The organizers will contact you within 5 working days. \nUnibet live event terms and conditions apply. \nSee more about UDSO on https://www.deepstackopen.com/
URL:https://unibetpoker.com/event/udso-seat-only-final-1x-e550-seat
CATEGORIES:Live Event Qualifier Final,Live Events
END:VEVENT
BEGIN:VEVENT
DTSTART;TZID=UTC:20240509T200500
DTEND;TZID=UTC:20240509T233000
DTSTAMP:20260420T073407
CREATED:20240511T202002Z
LAST-MODIFIED:20240511T202004Z
UID:2510-1715285100-1715297400@unibetpoker.com
SUMMARY:UDSO Package Final - 2x €1\,500 packages
DESCRIPTION:Win a package to the Unibet Deep Stack Open! You can currently qualify for: UDSO/MPF Malta\, UDSO Barcelona\, UDSO Sanremo. \nThe package contains: \n\n€550 Main event buyin\n€400 travel/spending money\nHotel stay\n\nMalta 4 nights\, no guest\nBarcelona 3 nights\, with guest\nSanremo 4 nights\, no guest\nMarrakech 5 nights\, with guest\n\n\n\nThe ticket won in the qualifier is merely a placeholder and it does not matter whether it expires. \nYour name and email will be shared with the event organizers\, if you win a package. The organizers will contact you within 5 working days. \nUnibet live event terms and conditions apply. \nSee more about UDSO on https://www.deepstackopen.com/
URL:https://unibetpoker.com/event/udso-package-final-2x-e1500-packages-2
CATEGORIES:Live Event Qualifier Final,Live Events
END:VEVENT
BEGIN:VEVENT
DTSTART;TZID=UTC:20240207T210000
DTEND;TZID=UTC:20240207T233000
DTSTAMP:20260420T073407
CREATED:20240205T110057Z
LAST-MODIFIED:20240205T110057Z
UID:1175-1707339600-1707348600@unibetpoker.com
SUMMARY:UDSO Seat Only Final - 1x €550 Seat
DESCRIPTION:Seat-only qualifier for the UDSO. The ticket won in the qualifier is merely a placeholder and it does not matter whether it expires. \nThe seat can be used for any UDSO event with a €550 buyin. \nYour name and email will be shared with the event organizers\, if you win a seat. The organizers will contact you within 5 working days. \nUnibet live event terms and conditions apply. \nSee more about UDSO on https://www.deepstackopen.com/
URL:https://unibetpoker.com/event/udso-seat-only-final-1x-e550-seat
CATEGORIES:Live Event Qualifier Final,Live Events
END:VEVENT
BEGIN:VEVENT
DTSTART;TZID=UTC:20240509T200500
DTEND;TZID=UTC:20240509T233000
DTSTAMP:20260420T073407
CREATED:20240511T202002Z
LAST-MODIFIED:20240511T202004Z
UID:2510-1715285100-1715297400@unibetpoker.com
SUMMARY:UDSO Package Final - 2x €1\,500 packages
DESCRIPTION:Win a package to the Unibet Deep Stack Open! You can currently qualify for: UDSO/MPF Malta\, UDSO Barcelona\, UDSO Sanremo. \nThe package contains: \n\n€550 Main event buyin\n€400 travel/spending money\nHotel stay\n\nMalta 4 nights\, no guest\nBarcelona 3 nights\, with guest\nSanremo 4 nights\, no guest\nMarrakech 5 nights\, with guest\n\n\n\nThe ticket won in the qualifier is merely a placeholder and it does not matter whether it expires. \nYour name and email will be shared with the event organizers\, if you win a package. The organizers will contact you within 5 working days. \nUnibet live event terms and conditions apply. \nSee more about UDSO on https://www.deepstackopen.com/
URL:https://unibetpoker.com/event/udso-package-final-2x-e1500-packages-2
CATEGORIES:Live Event Qualifier Final,Live Events
END:VEVENT
BEGIN:VEVENT
DTSTART;TZID=UTC:20240207T210000
DTEND;TZID=UTC:20240207T233000
DTSTAMP:20260420T073407
CREATED:20240205T110057Z
LAST-MODIFIED:20240205T110057Z
UID:1175-1707339600-1707348600@unibetpoker.com
SUMMARY:UDSO Seat Only Final - 1x €550 Seat
DESCRIPTION:Seat-only qualifier for the UDSO. The ticket won in the qualifier is merely a placeholder and it does not matter whether it expires. \nThe seat can be used for any UDSO event with a €550 buyin. \nYour name and email will be shared with the event organizers\, if you win a seat. The organizers will contact you within 5 working days. \nUnibet live event terms and conditions apply. \nSee more about UDSO on https://www.deepstackopen.com/
URL:https://unibetpoker.com/event/udso-seat-only-final-1x-e550-seat
CATEGORIES:Live Event Qualifier Final,Live Events
END:VEVENT
BEGIN:VEVENT
DTSTART;TZID=UTC:20240509T200500
DTEND;TZID=UTC:20240509T233000
DTSTAMP:20260420T073407
CREATED:20240511T202002Z
LAST-MODIFIED:20240511T202004Z
UID:2510-1715285100-1715297400@unibetpoker.com
SUMMARY:UDSO Package Final - 2x €1\,500 packages
DESCRIPTION:Win a package to the Unibet Deep Stack Open! You can currently qualify for: UDSO/MPF Malta\, UDSO Barcelona\, UDSO Sanremo. \nThe package contains: \n\n€550 Main event buyin\n€400 travel/spending money\nHotel stay\n\nMalta 4 nights\, no guest\nBarcelona 3 nights\, with guest\nSanremo 4 nights\, no guest\nMarrakech 5 nights\, with guest\n\n\n\nThe ticket won in the qualifier is merely a placeholder and it does not matter whether it expires. \nYour name and email will be shared with the event organizers\, if you win a package. The organizers will contact you within 5 working days. \nUnibet live event terms and conditions apply. \nSee more about UDSO on https://www.deepstackopen.com/
URL:https://unibetpoker.com/event/udso-package-final-2x-e1500-packages-2
CATEGORIES:Live Event Qualifier Final,Live Events
END:VEVENT
BEGIN:VEVENT
DTSTART;VALUE=DATE:20240723
DTEND;VALUE=DATE:20240729
DTSTAMP:20260420T073407
CREATED:20240205T111308Z
LAST-MODIFIED:20240205T111308Z
UID:1186-1721692800-1722211199@unibetpoker.com
SUMMARY:UDSO Sanremo 2024
DESCRIPTION:
URL:https://unibetpoker.com/event/udso-sanremo-2024
LOCATION:Casino Sanremo\, Corso degli Inglesi\, 18\, Sanremo\, 18038\, Italy
CATEGORIES:Live Event,Live Events
END:VEVENT
BEGIN:VEVENT
DTSTART;TZID=UTC:20240207T210000
DTEND;TZID=UTC:20240207T233000
DTSTAMP:20260420T073407
CREATED:20240205T110057Z
LAST-MODIFIED:20240205T110057Z
UID:1175-1707339600-1707348600@unibetpoker.com
SUMMARY:UDSO Seat Only Final - 1x €550 Seat
DESCRIPTION:Seat-only qualifier for the UDSO. The ticket won in the qualifier is merely a placeholder and it does not matter whether it expires. \nThe seat can be used for any UDSO event with a €550 buyin. \nYour name and email will be shared with the event organizers\, if you win a seat. The organizers will contact you within 5 working days. \nUnibet live event terms and conditions apply. \nSee more about UDSO on https://www.deepstackopen.com/
URL:https://unibetpoker.com/event/udso-seat-only-final-1x-e550-seat
CATEGORIES:Live Event Qualifier Final,Live Events
END:VEVENT
BEGIN:VEVENT
DTSTART;TZID=UTC:20240509T200500
DTEND;TZID=UTC:20240509T233000
DTSTAMP:20260420T073407
CREATED:20240511T202002Z
LAST-MODIFIED:20240511T202004Z
UID:2510-1715285100-1715297400@unibetpoker.com
SUMMARY:UDSO Package Final - 2x €1\,500 packages
DESCRIPTION:Win a package to the Unibet Deep Stack Open! You can currently qualify for: UDSO/MPF Malta\, UDSO Barcelona\, UDSO Sanremo. \nThe package contains: \n\n€550 Main event buyin\n€400 travel/spending money\nHotel stay\n\nMalta 4 nights\, no guest\nBarcelona 3 nights\, with guest\nSanremo 4 nights\, no guest\nMarrakech 5 nights\, with guest\n\n\n\nThe ticket won in the qualifier is merely a placeholder and it does not matter whether it expires. \nYour name and email will be shared with the event organizers\, if you win a package. The organizers will contact you within 5 working days. \nUnibet live event terms and conditions apply. \nSee more about UDSO on https://www.deepstackopen.com/
URL:https://unibetpoker.com/event/udso-package-final-2x-e1500-packages-2
CATEGORIES:Live Event Qualifier Final,Live Events
END:VEVENT
BEGIN:VEVENT
DTSTART;TZID=UTC:20240207T210000
DTEND;TZID=UTC:20240207T233000
DTSTAMP:20260420T073407
CREATED:20240205T110057Z
LAST-MODIFIED:20240205T110057Z
UID:1175-1707339600-1707348600@unibetpoker.com
SUMMARY:UDSO Seat Only Final - 1x €550 Seat
DESCRIPTION:Seat-only qualifier for the UDSO. The ticket won in the qualifier is merely a placeholder and it does not matter whether it expires. \nThe seat can be used for any UDSO event with a €550 buyin. \nYour name and email will be shared with the event organizers\, if you win a seat. The organizers will contact you within 5 working days. \nUnibet live event terms and conditions apply. \nSee more about UDSO on https://www.deepstackopen.com/
URL:https://unibetpoker.com/event/udso-seat-only-final-1x-e550-seat
CATEGORIES:Live Event Qualifier Final,Live Events
END:VEVENT
BEGIN:VEVENT
DTSTART;TZID=UTC:20240509T200500
DTEND;TZID=UTC:20240509T233000
DTSTAMP:20260420T073407
CREATED:20240511T202002Z
LAST-MODIFIED:20240511T202004Z
UID:2510-1715285100-1715297400@unibetpoker.com
SUMMARY:UDSO Package Final - 2x €1\,500 packages
DESCRIPTION:Win a package to the Unibet Deep Stack Open! You can currently qualify for: UDSO/MPF Malta\, UDSO Barcelona\, UDSO Sanremo. \nThe package contains: \n\n€550 Main event buyin\n€400 travel/spending money\nHotel stay\n\nMalta 4 nights\, no guest\nBarcelona 3 nights\, with guest\nSanremo 4 nights\, no guest\nMarrakech 5 nights\, with guest\n\n\n\nThe ticket won in the qualifier is merely a placeholder and it does not matter whether it expires. \nYour name and email will be shared with the event organizers\, if you win a package. The organizers will contact you within 5 working days. \nUnibet live event terms and conditions apply. \nSee more about UDSO on https://www.deepstackopen.com/
URL:https://unibetpoker.com/event/udso-package-final-2x-e1500-packages-2
CATEGORIES:Live Event Qualifier Final,Live Events
END:VEVENT
BEGIN:VEVENT
DTSTART;TZID=UTC:20240207T210000
DTEND;TZID=UTC:20240207T233000
DTSTAMP:20260420T073407
CREATED:20240205T110057Z
LAST-MODIFIED:20240205T110057Z
UID:1175-1707339600-1707348600@unibetpoker.com
SUMMARY:UDSO Seat Only Final - 1x €550 Seat
DESCRIPTION:Seat-only qualifier for the UDSO. The ticket won in the qualifier is merely a placeholder and it does not matter whether it expires. \nThe seat can be used for any UDSO event with a €550 buyin. \nYour name and email will be shared with the event organizers\, if you win a seat. The organizers will contact you within 5 working days. \nUnibet live event terms and conditions apply. \nSee more about UDSO on https://www.deepstackopen.com/
URL:https://unibetpoker.com/event/udso-seat-only-final-1x-e550-seat
CATEGORIES:Live Event Qualifier Final,Live Events
END:VEVENT
BEGIN:VEVENT
DTSTART;TZID=UTC:20240509T200500
DTEND;TZID=UTC:20240509T233000
DTSTAMP:20260420T073407
CREATED:20240511T202002Z
LAST-MODIFIED:20240511T202004Z
UID:2510-1715285100-1715297400@unibetpoker.com
SUMMARY:UDSO Package Final - 2x €1\,500 packages
DESCRIPTION:Win a package to the Unibet Deep Stack Open! You can currently qualify for: UDSO/MPF Malta\, UDSO Barcelona\, UDSO Sanremo. \nThe package contains: \n\n€550 Main event buyin\n€400 travel/spending money\nHotel stay\n\nMalta 4 nights\, no guest\nBarcelona 3 nights\, with guest\nSanremo 4 nights\, no guest\nMarrakech 5 nights\, with guest\n\n\n\nThe ticket won in the qualifier is merely a placeholder and it does not matter whether it expires. \nYour name and email will be shared with the event organizers\, if you win a package. The organizers will contact you within 5 working days. \nUnibet live event terms and conditions apply. \nSee more about UDSO on https://www.deepstackopen.com/
URL:https://unibetpoker.com/event/udso-package-final-2x-e1500-packages-2
CATEGORIES:Live Event Qualifier Final,Live Events
END:VEVENT
BEGIN:VEVENT
DTSTART;TZID=UTC:20240207T210000
DTEND;TZID=UTC:20240207T233000
DTSTAMP:20260420T073407
CREATED:20240205T110057Z
LAST-MODIFIED:20240205T110057Z
UID:1175-1707339600-1707348600@unibetpoker.com
SUMMARY:UDSO Seat Only Final - 1x €550 Seat
DESCRIPTION:Seat-only qualifier for the UDSO. The ticket won in the qualifier is merely a placeholder and it does not matter whether it expires. \nThe seat can be used for any UDSO event with a €550 buyin. \nYour name and email will be shared with the event organizers\, if you win a seat. The organizers will contact you within 5 working days. \nUnibet live event terms and conditions apply. \nSee more about UDSO on https://www.deepstackopen.com/
URL:https://unibetpoker.com/event/udso-seat-only-final-1x-e550-seat
CATEGORIES:Live Event Qualifier Final,Live Events
END:VEVENT
BEGIN:VEVENT
DTSTART;TZID=UTC:20240509T200500
DTEND;TZID=UTC:20240509T233000
DTSTAMP:20260420T073407
CREATED:20240511T202002Z
LAST-MODIFIED:20240511T202004Z
UID:2510-1715285100-1715297400@unibetpoker.com
SUMMARY:UDSO Package Final - 2x €1\,500 packages
DESCRIPTION:Win a package to the Unibet Deep Stack Open! You can currently qualify for: UDSO/MPF Malta\, UDSO Barcelona\, UDSO Sanremo. \nThe package contains: \n\n€550 Main event buyin\n€400 travel/spending money\nHotel stay\n\nMalta 4 nights\, no guest\nBarcelona 3 nights\, with guest\nSanremo 4 nights\, no guest\nMarrakech 5 nights\, with guest\n\n\n\nThe ticket won in the qualifier is merely a placeholder and it does not matter whether it expires. \nYour name and email will be shared with the event organizers\, if you win a package. The organizers will contact you within 5 working days. \nUnibet live event terms and conditions apply. \nSee more about UDSO on https://www.deepstackopen.com/
URL:https://unibetpoker.com/event/udso-package-final-2x-e1500-packages-2
CATEGORIES:Live Event Qualifier Final,Live Events
END:VEVENT
BEGIN:VEVENT
DTSTART;TZID=UTC:20240207T210000
DTEND;TZID=UTC:20240207T233000
DTSTAMP:20260420T073407
CREATED:20240205T110057Z
LAST-MODIFIED:20240205T110057Z
UID:1175-1707339600-1707348600@unibetpoker.com
SUMMARY:UDSO Seat Only Final - 1x €550 Seat
DESCRIPTION:Seat-only qualifier for the UDSO. The ticket won in the qualifier is merely a placeholder and it does not matter whether it expires. \nThe seat can be used for any UDSO event with a €550 buyin. \nYour name and email will be shared with the event organizers\, if you win a seat. The organizers will contact you within 5 working days. \nUnibet live event terms and conditions apply. \nSee more about UDSO on https://www.deepstackopen.com/
URL:https://unibetpoker.com/event/udso-seat-only-final-1x-e550-seat
CATEGORIES:Live Event Qualifier Final,Live Events
END:VEVENT
BEGIN:VEVENT
DTSTART;TZID=UTC:20240509T200500
DTEND;TZID=UTC:20240509T233000
DTSTAMP:20260420T073407
CREATED:20240511T202002Z
LAST-MODIFIED:20240511T202004Z
UID:2510-1715285100-1715297400@unibetpoker.com
SUMMARY:UDSO Package Final - 2x €1\,500 packages
DESCRIPTION:Win a package to the Unibet Deep Stack Open! You can currently qualify for: UDSO/MPF Malta\, UDSO Barcelona\, UDSO Sanremo. \nThe package contains: \n\n€550 Main event buyin\n€400 travel/spending money\nHotel stay\n\nMalta 4 nights\, no guest\nBarcelona 3 nights\, with guest\nSanremo 4 nights\, no guest\nMarrakech 5 nights\, with guest\n\n\n\nThe ticket won in the qualifier is merely a placeholder and it does not matter whether it expires. \nYour name and email will be shared with the event organizers\, if you win a package. The organizers will contact you within 5 working days. \nUnibet live event terms and conditions apply. \nSee more about UDSO on https://www.deepstackopen.com/
URL:https://unibetpoker.com/event/udso-package-final-2x-e1500-packages-2
CATEGORIES:Live Event Qualifier Final,Live Events
END:VEVENT
BEGIN:VEVENT
DTSTART;TZID=UTC:20240207T210000
DTEND;TZID=UTC:20240207T233000
DTSTAMP:20260420T073407
CREATED:20240205T110057Z
LAST-MODIFIED:20240205T110057Z
UID:1175-1707339600-1707348600@unibetpoker.com
SUMMARY:UDSO Seat Only Final - 1x €550 Seat
DESCRIPTION:Seat-only qualifier for the UDSO. The ticket won in the qualifier is merely a placeholder and it does not matter whether it expires. \nThe seat can be used for any UDSO event with a €550 buyin. \nYour name and email will be shared with the event organizers\, if you win a seat. The organizers will contact you within 5 working days. \nUnibet live event terms and conditions apply. \nSee more about UDSO on https://www.deepstackopen.com/
URL:https://unibetpoker.com/event/udso-seat-only-final-1x-e550-seat
CATEGORIES:Live Event Qualifier Final,Live Events
END:VEVENT
BEGIN:VEVENT
DTSTART;TZID=UTC:20240509T200500
DTEND;TZID=UTC:20240509T233000
DTSTAMP:20260420T073407
CREATED:20240511T202002Z
LAST-MODIFIED:20240511T202004Z
UID:2510-1715285100-1715297400@unibetpoker.com
SUMMARY:UDSO Package Final - 2x €1\,500 packages
DESCRIPTION:Win a package to the Unibet Deep Stack Open! You can currently qualify for: UDSO/MPF Malta\, UDSO Barcelona\, UDSO Sanremo. \nThe package contains: \n\n€550 Main event buyin\n€400 travel/spending money\nHotel stay\n\nMalta 4 nights\, no guest\nBarcelona 3 nights\, with guest\nSanremo 4 nights\, no guest\nMarrakech 5 nights\, with guest\n\n\n\nThe ticket won in the qualifier is merely a placeholder and it does not matter whether it expires. \nYour name and email will be shared with the event organizers\, if you win a package. The organizers will contact you within 5 working days. \nUnibet live event terms and conditions apply. \nSee more about UDSO on https://www.deepstackopen.com/
URL:https://unibetpoker.com/event/udso-package-final-2x-e1500-packages-2
CATEGORIES:Live Event Qualifier Final,Live Events
END:VEVENT
BEGIN:VEVENT
DTSTART;VALUE=DATE:20240903
DTEND;VALUE=DATE:20240909
DTSTAMP:20260420T073407
CREATED:20240724T081500Z
LAST-MODIFIED:20240724T081500Z
UID:2825-1725321600-1725839999@unibetpoker.com
SUMMARY:London Poker Festival 2024
DESCRIPTION:
URL:https://unibetpoker.com/event/london-poker-festival-2024
LOCATION:Aspers Casino
CATEGORIES:Live Event,Live Events
END:VEVENT
BEGIN:VEVENT
DTSTART;TZID=UTC:20240207T210000
DTEND;TZID=UTC:20240207T233000
DTSTAMP:20260420T073407
CREATED:20240205T110057Z
LAST-MODIFIED:20240205T110057Z
UID:1175-1707339600-1707348600@unibetpoker.com
SUMMARY:UDSO Seat Only Final - 1x €550 Seat
DESCRIPTION:Seat-only qualifier for the UDSO. The ticket won in the qualifier is merely a placeholder and it does not matter whether it expires. \nThe seat can be used for any UDSO event with a €550 buyin. \nYour name and email will be shared with the event organizers\, if you win a seat. The organizers will contact you within 5 working days. \nUnibet live event terms and conditions apply. \nSee more about UDSO on https://www.deepstackopen.com/
URL:https://unibetpoker.com/event/udso-seat-only-final-1x-e550-seat
CATEGORIES:Live Event Qualifier Final,Live Events
END:VEVENT
BEGIN:VEVENT
DTSTART;TZID=UTC:20240509T200500
DTEND;TZID=UTC:20240509T233000
DTSTAMP:20260420T073407
CREATED:20240511T202002Z
LAST-MODIFIED:20240511T202004Z
UID:2510-1715285100-1715297400@unibetpoker.com
SUMMARY:UDSO Package Final - 2x €1\,500 packages
DESCRIPTION:Win a package to the Unibet Deep Stack Open! You can currently qualify for: UDSO/MPF Malta\, UDSO Barcelona\, UDSO Sanremo. \nThe package contains: \n\n€550 Main event buyin\n€400 travel/spending money\nHotel stay\n\nMalta 4 nights\, no guest\nBarcelona 3 nights\, with guest\nSanremo 4 nights\, no guest\nMarrakech 5 nights\, with guest\n\n\n\nThe ticket won in the qualifier is merely a placeholder and it does not matter whether it expires. \nYour name and email will be shared with the event organizers\, if you win a package. The organizers will contact you within 5 working days. \nUnibet live event terms and conditions apply. \nSee more about UDSO on https://www.deepstackopen.com/
URL:https://unibetpoker.com/event/udso-package-final-2x-e1500-packages-2
CATEGORIES:Live Event Qualifier Final,Live Events
END:VEVENT
BEGIN:VEVENT
DTSTART;VALUE=DATE:20240908
DTEND;VALUE=DATE:20240916
DTSTAMP:20260420T073407
CREATED:20240205T112705Z
LAST-MODIFIED:20240205T112705Z
UID:1202-1725753600-1726444799@unibetpoker.com
SUMMARY:The Festival Malta 2024
DESCRIPTION:
URL:https://unibetpoker.com/event/the-festival-malta-2024
LOCATION:Casino Portomaso\, Portomaso\, St Julians\, Malta
CATEGORIES:Live Event,Live Events
END:VEVENT
END:VCALENDAR