BEGIN:VCALENDAR
VERSION:2.0
PRODID:-//Unibet Poker - ECPv6.15.20//NONSGML v1.0//EN
CALSCALE:GREGORIAN
METHOD:PUBLISH
X-ORIGINAL-URL:https://unibetpoker.com
X-WR-CALDESC:Events for Unibet Poker
REFRESH-INTERVAL;VALUE=DURATION:PT1H
X-Robots-Tag:noindex
X-PUBLISHED-TTL:PT1H
BEGIN:VTIMEZONE
TZID:UTC
BEGIN:STANDARD
TZOFFSETFROM:+0000
TZOFFSETTO:+0000
TZNAME:UTC
DTSTART:20230101T000000
END:STANDARD
END:VTIMEZONE
BEGIN:VEVENT
DTSTART;VALUE=DATE:20241028
DTEND;VALUE=DATE:20241202
DTSTAMP:20260426T022602
CREATED:20241031T154149Z
LAST-MODIFIED:20241031T154149Z
UID:2978-1730073600-1733097599@unibetpoker.com
SUMMARY:XXL XP Race
DESCRIPTION:Not long ago\, we increased the prizes of the XP Race to be €10\,000 per week. Now\, we’re doing it again\, but we’re going all-in and increasing the weekly rewards to no less than €20\,000! \nSo get ready to put on your suit of armor and prepare for an epic battle across all of our game formats. Apart from the increase in value\, the XP race hasn’t changed\, and it’s still the one promotion where all players of Unibet poker battle on equal terms against each other. \nEligibility:\nPlease note that players from Sweden\, Netherlands\, Belgium and Denmark are excluded from this promotion. \nHow It Works:\n\nEarn XP by playing: Play cash game\, HexaPro\, MTT or SNG\, to earn points – points earned are based on rake/fees paid.\nClimb the leaderboard ladder to earn rewards: Reach top 120 for a prize. There’s €2000 up for grabs for 1st place!\n\nWeekly Leaderboard Prizes:\nAll leaderboard prizes are paid in cash. \n\n\n\nPosition\nPrize\n\n\n1\n €            2\,000.00\n\n\n2\n €            1\,600.00\n\n\n3\n €            1\,300.00\n\n\n4\n €            1\,100.00\n\n\n5\n €            1\,000.00\n\n\n6\n €               900.00\n\n\n7\n €               800.00\n\n\n8\n €               700.00\n\n\n9\n €               600.00\n\n\n10\n €               500.00\n\n\n11\n €               400.00\n\n\n12\n €               300.00\n\n\n13-15\n €               250.00\n\n\n16-18\n €               200.00\n\n\n19-22\n €               175.00\n\n\n23-26\n €               150.00\n\n\n27-31\n €               125.00\n\n\n32-40\n €               100.00\n\n\n41-50\n €                 90.00\n\n\n51-60\n €                 80.00\n\n\n61-70\n €                 70.00\n\n\n71-80\n €                 60.00\n\n\n81-90\n €                 50.00\n\n\n91-105\n €                 40.00\n\n\n106-120\n €                 35.00\n\n\n\nTerms & Conditions:\n\nPlease note that players from Sweden\, Netherlands\, Belgium and Denmark are excluded from this promotion.\nA day during this promotion runs from 00:00 UTC to 23:59 UTC.\nThe promotion is divided into five races\, each with a duration of one week (Monday-Sunday).\nRace prizes will be paid out within three business days from the end of each weekly race according to the player’s position in the leader board.\nYou will get 1 point for every 1c generated in rake across all game types on poker.\nWe reserve the right to change the promotion at any time.\nIn the event of inconsistency or discrepancy between this version and any other language/site version of these Terms and Conditions\, the Unibet.co.uk English language version shall prevail.\nGeneral Unibet terms and conditions apply.
URL:https://unibetpoker.com/event/xxl-xp-race
CATEGORIES:Cash game promotion,HexaPro promotion,Promotions,SNG promotion,Tournament (MTT) promotion
END:VEVENT
BEGIN:VEVENT
DTSTART;VALUE=DATE:20241101
DTEND;VALUE=DATE:20241208
DTSTAMP:20260426T022602
CREATED:20241031T154320Z
LAST-MODIFIED:20241031T154320Z
UID:2980-1730419200-1733615999@unibetpoker.com
SUMMARY:Cash Game Prize Drop
DESCRIPTION:Get ready for 36 days of exciting prize drops at our cash game tables! Every day\, new prize drops are waiting to be claimed – prize value will change\, every day – with a special boost in rewards during the final week. Will you hit the Bronze\, Silver\, or Gold Prize Drop today? In total\, we’ll drop up to €100\,000 in cash prizes during the promotion! \nEligibility\nThe Prize Drop promotion is open to all cash game players on eligible stakes.\nMarket exclusions: players from Sweden\, Denmark and Netherlands can not take part in this promotion. \nDrop Tiers\nYour cash game stake level determines the prize tier you are eligible for: \n\nNL/PL4 and Banzai 1: Eligible for Bronze drops only.\nNL/PL10 and Banzai 5: Eligible for both Bronze and Silver drops.\nNL/PL25+ and and Banzai 20+: Eligible for Bronze\, Silver\, and Gold drops.\n\nDaily Special tables: \n\nSSM tables: Eligible for Bronze\, Silver\, and Gold drops.\nDSL tables: Eligible for both Bronze and Silver drops.\n\nHow It Works\n\nDaily Prize Drops: Every day during the promotion\, random prize drops will occur at various cash game tables. Keep an eye on the lobby icon\, which will show you the drop of the day and the eligible tables.\nDealt-in to Win: To win a prize\, simply be dealt in at a table that has been randomly selected for a Prize Drop.\nInstant Wins: If your table is selected\, an animation will appear\, and all players at the table will instantly win the same prize.\nTiered Rewards: Your cash game stake level determines the prize tier you are eligible for. The higher the stake\, the more prize tiers you can win.\n\nTerms and Conditions\n\nA day during the promotion starts at 00:00 UTC and ends 23:59 UTC\nThe promotion is not available to players from Sweden\, Denmark\, and the Netherlands.\nThis promotion runs for 36 consecutive days\, with prize drops occurring daily at random cash game tables.\nPlayers are eligible for prize tiers based on the stake level they are playing on\, plus any lower tiers.\nDaily special tables (SSM\, DSL\, and BANZAI 50) have specific prize eligibility.\nAll prizes are distributed automatically once a table is selected for a Prize Drop\, and all players dealt in will receive the same prize.\nThe final week of the promotion (starting 1st December) will feature boosted prizes.
URL:https://unibetpoker.com/event/cash-game-prize-drop
CATEGORIES:Cash game promotion,Promotions
END:VEVENT
BEGIN:VEVENT
DTSTART;VALUE=DATE:20241201
DTEND;VALUE=DATE:20250101
DTSTAMP:20260426T022603
CREATED:20241114T121837Z
LAST-MODIFIED:20241118T071026Z
UID:3008-1733011200-1735689599@unibetpoker.com
SUMMARY:31 Days of Xmas
DESCRIPTION:This December\, join us for the merriest countdown to Christmas! Every day\, unwrap a new mission and discover holiday rewards\, from daily treats to grand seasonal surprises. It’s the season of giving\, and we’re bringing you daily chances to win\, with bigger and better gifts waiting for those who complete their missions. Let the spirit of Christmas guide you to fantastic prizes! \nEligibility\n\nMarket Exclusions: Unfortunately\, players from Sweden\, Belgium\, and Denmark cannot join the festivities this time.\nNetherlands: Players from the Netherlands are warmly invited to join in\, with a simple opt-in required to get started!\n\nPrizes/Value\nComplete your missions to unlock exclusive Christmas rewards! Here’s what Santa has in store: \n\nDaily Gifts: Each mission comes with its own special reward—perfect for adding a little sparkle to your day.\nWeekly Prizes: Complete 5 missions in a promo week to earn a weekly treat\, made just for you!\nGrand Christmas Prize: Finish 25 missions throughout December to secure your place in the grand €4\,000 tournament—a festive finale to remember!\n\nHow It Works\n\nDaily Missions: Each day in December brings a new mission\, ready to be unwrapped!\nEarn Rewards: Collect festive rewards as you complete each mission—like opening a new gift every day.\nWeekly and Grand Prizes: Meet weekly goals and complete 25 missions to qualify for bonus prizes and join the grand Christmas celebration!\n\nTournament schedule \n\n\n\nDate\nTime (CET)\nTournament name\n\n\n03-12-2024\n20:00\n€1\,000 UOS Advent Calendar Special\n\n\n08-12-2024\n20:00\n€1\,000 UOS Advent Calendar Special\n\n\n09-12-2024\n19:00\n€1\,000 Advent Calendar Weekly Special\n\n\n14-12-2024\n20:00\n€1\,000 UOS Advent Calendar Special\n\n\n15-12-2024\n02:00\n€1\,500 UOS FINAL WEEKEND FLIP\n\n\n16-12-2024\n19:00\n€1\,000 Advent Calendar Weekly Special\n\n\n23-12-2024\n19:00\n€1\,000 Advent Calendar Weekly Special\n\n\n26-12-2024\n02:00\n€1\,000 X-Mas Flip Celebration\n\n\n30-12-2024\n19:00\n€1\,000 Advent Calendar Weekly Special\n\n\n05-01-2025\n19:00\n€1\,000 Advent Calendar Weekly Special\n\n\n05-01-2025\n19:00\n€4\,000 Advents Calendar Showdown\n\n\n\nTerms and Conditions\n\nPlayers from Sweden\, Denmark and Belgium can not take part in the promotion\nPlayers from the Netherlands are required to opt-in\nMissions are based on UTC time and your local time is irrelevant.\nMissions reset daily; each day brings a new opportunity to participate.\nWe reserve the right to change the promotion at any time.\nIn the event of inconsistency or discrepancy between this version and any other language/site version of these Terms and Conditions\, the Unibet.co.uk English language version shall prevail.\nGeneral Unibet terms and conditions apply.
URL:https://unibetpoker.com/event/31-days-of-xmas
CATEGORIES:Cash game promotion,HexaPro promotion,Promotions,SNG promotion,Tournament (MTT) promotion
END:VEVENT
BEGIN:VEVENT
DTSTART;VALUE=DATE:20241201
DTEND;VALUE=DATE:20250101
DTSTAMP:20260426T022603
CREATED:20241114T185706Z
LAST-MODIFIED:20241114T185706Z
UID:3011-1733011200-1735689599@unibetpoker.com
SUMMARY:Santa Flip
DESCRIPTION:From December 1st to December 31st\, join us for a festive Poker Flip experience! Earn tokens and play our exclusive Poker Flips mini game to unlock amazing prizes. Each flip brings you closer to fantastic rewards – but will you collect or take the risk to win even bigger? \nEligibility\n\nMarket Exclusions: Unfortunately\, players from Sweden\, Belgium\, and Denmark cannot join the festivities this time.\nNetherlands: Players from the Netherlands are warmly invited to join in\, with a simple opt-in required to get started!\n\nHow It Works\n\nEarn Tokens: Tokens come in three tiers – Bronze\, Silver\, and Gold. Play Cash Games\, HexaPro\, or SNG games to earn tokens:\n\nBronze Token: Earn by seeing 35 flops in cash games NL/PL4-NL/PL10\, 20 flops at Banzai €1-€1\, playing 4 HexaPros €1-€5\, or 5 Sit & Gos €1-€4.\nSilver Token: Earn by seeing 35 flops cash games NL/PL25-NL/PL100\, 20 flops at Banzai €5\, playing 4 HexaPros €10-€25\, or 5 Sit & Gos €10-€25.\nGold Token: Earn by seeing 35 flops in cash games NL/PL200-NL/PL400\, 20 flops at Banzai €20-50\, playing 4 HexaPros €50-€100.\n\nYou can earn up to 6 tokens per day (2 per tier). Each week\, you’ll also receive a free Bronze token when you log in.\nPlay Poker Flips: Use your tokens in the Poker Flips mini game. Play against the King of Flips\, and decide after each round if you want to collect your prize or flip again for a chance at a higher reward!\nWin Big: Bronze\, Silver\, and Gold tokens unlock different tiers of rewards\, from MTT Flip Tickets and HexaPro Tickets to a chance at a €1000 cash prize!\n\nTerms and Conditions\n\nPlayers from Sweden\, Denmark and Belgium can not take part in the promotion\nPlayers from the Netherlands are required to opt-in\nPromotion Period: December 1st – December 31st\, 2024. Tokens must be used by December 31st\, 23:59 UTC.\nDaily Progression: Token progression resets daily. Ensure you see at least one flop per day to keep your progression active.\nToken Expiry: Accumulated tokens will expire at 23:59 UTC on December 31st\, 2024.\nFlip Game Payouts:\n\nBronze Tier: Rewards like Supermoon Flip Tickets and HexaPro Extreme Tickets.\nSilver Tier: Rewards include MTT Flip Tickets and €1 HexaPro tickets.\nGold Tier: Premium rewards\, including up to a €550 UDSO Live Poker Seat and a €1000 cash prize.\n\n\nWe reserve the right to change the promotion at any time.\nIn the event of inconsistency or discrepancy between this version and any other language/site version of these Terms and Conditions\, the Unibet.co.uk English language version shall prevail.\nGeneral Unibet terms and conditions apply.\n\nGood luck\, and may your holiday season be filled with winning flips!
URL:https://unibetpoker.com/event/santa-flip
CATEGORIES:Cash game promotion,HexaPro promotion,Promotions,SNG promotion,Tournament (MTT) promotion
END:VEVENT
END:VCALENDAR