BEGIN:VCALENDAR
VERSION:2.0
PRODID:-//Unibet Poker - ECPv6.15.20//NONSGML v1.0//EN
CALSCALE:GREGORIAN
METHOD:PUBLISH
X-WR-CALNAME:Unibet Poker
X-ORIGINAL-URL:https://unibetpoker.com
X-WR-CALDESC:Events for Unibet Poker
REFRESH-INTERVAL;VALUE=DURATION:PT1H
X-Robots-Tag:noindex
X-PUBLISHED-TTL:PT1H
BEGIN:VTIMEZONE
TZID:UTC
BEGIN:STANDARD
TZOFFSETFROM:+0000
TZOFFSETTO:+0000
TZNAME:UTC
DTSTART:20230101T000000
END:STANDARD
END:VTIMEZONE
BEGIN:VEVENT
DTSTART;VALUE=DATE:20240610
DTEND;VALUE=DATE:20240715
DTSTAMP:20260425T135457
CREATED:20240422T092513Z
LAST-MODIFIED:20240705T102310Z
UID:2314-1717977600-1721001599@unibetpoker.com
SUMMARY:Summer of Football: Team Collector
DESCRIPTION:Get ready for a football-filled summer with our thrilling “Summer of Football” Team Collector promotion! As the excitement builds for the upcoming tournament\, join us in a captivating quest to collect participating teams by completing unique missions assigned to each one. \nHow It Works\nYour mission is simple: collect teams by completing challenges and unlock amazing rewards along the way. Each group from A to F features four teams\, and each team comes with its own special mission. Complete all four missions in a group to unlock a spectacular group reward. \nStep-by-Step Play:\n\nStart with Group A: Kick off your journey with the first group and progress through each mission.\nAdvance Through Groups: After completing Group A\, move on to Group B\, and continue through to Group F.\nUnlock Rewards: Completing all four missions in any group unlocks a reward exclusive to that group.\n\nGrand €7\,000 exclusive MTT\nHere’s where it gets even more exciting: if you complete the mission for the team that wins the tournament\, you will be entered into an exclusive flip tournament with a massive €7\,000 prize pool! The more team missions you complete\, the better your chances of predicting the champion and entering the draw. \n€3\,000 exclusive MTT for completing all teams\nIf you manage to complete all missions and thereby collect all the participating teams\, you’ll be entered into an exclusive MTT with a prizepool of €3\,000. \nReady to Play?\nThis is your chance to combine your love for football with the thrill of the game. Complete the missions\, collect the teams\, and win big. Join us now and be a part of the exhilarating “Summer of Football” Team Collector promotion. Let the games begin and may the best team win! \nExcluded markets\n\n\n\n\n\n\n\n\n\nTerms and conditions\n\nThis promotion will run from 00:00 UTC on the 6th June 2024 till 23:59 UTC on the 14th July 2024.\nPlayers from Denmark\, Belgium and Sweden can not take part in this promotion.\nPlayers from NL must actively opt in to the promotion in the poker client.\nWe reserve the right to change the promotion at any time.\nGeneral Unibet terms and conditions apply.\nIn the event of inconsistency between the English version and any other language version of the Terms and Conditions\, the English language version shall prevail\nIn the event of inconsistency between the Unibetpoker.com and Unibet.com Terms and Conditions\, the Unibet.com version shall prevail\nLast update of the terms & conditions – 05/04/2023 00:00
URL:https://unibetpoker.com/event/summer-of-football-team-collector
CATEGORIES:Cash game promotion,HexaPro promotion,Promotions,SNG promotion,Tournament (MTT) promotion
END:VEVENT
BEGIN:VEVENT
DTSTART;VALUE=DATE:20240614
DTEND;VALUE=DATE:20240715
DTSTAMP:20260425T135457
CREATED:20240422T090853Z
LAST-MODIFIED:20240422T093120Z
UID:2309-1718323200-1721001599@unibetpoker.com
SUMMARY:Summer of Football: Penalty Hero
DESCRIPTION:Get ready to turn up the heat this summer with our exclusive Summer of Football: Penalty Hero promotion! As the excitement builds for the tournament\, why not add some thrill to your poker sessions and score big\, both at the tables and on the football field? \nHow It Works\nPlay poker\, earn tokens\, and take your shot at glory in our penalty shootout minigame. Here’s everything you need to know to get started: \nEarn Tokens by Playing Poker:\nOur tokens come in three tiers—Bronze\, Silver\, and Gold—each offering you a chance to play for bigger stakes and bigger rewards. \nBronze Tier: \n\nCash Games: Participate in NL/PL4 and NL/PL10.\nBanzai Cash Games: Join the action at NL1 and NL5.\nHexaPro: Enter games at €1\, €2\, and €5.\nSNG: Play at €1\, €2\, and €4 stakes.\n\nSilver Tier: \n\nCash Games: Dive into NL/PL25\, NL/PL50\, and NL/PL100. Special games on Mondays!\nBanzai Cash Games: Test your skills at NL20.\nHexaPro: Challenge yourself at €10\, €20\, and €25.\nSNG: Compete at €10 and €25 levels.\n\nGold Tier: \n\nCash Games: Aim higher in NL/PL200 and NL/PL400.\nBanzai Cash Games: Exclusive action on NL50 (Fridays only).\nHexaPro: Go big with €50 and €100 games.\nSNG: Take on €50\, €100\, and €200 stakes.\n\nToken Earning Criteria:\n\nCash Games: See 30 flops.\nSNGs: Play 5 games.\nHexaPros: Play 4 games.\n\nKeep the momentum going with a 1-day rolling expiry on your token progression. Just make sure to continue your progress the following day! \nTake Your Shot in the Penalty Shootout Minigame\nOnce you’ve collected your tokens\, step up to the penalty spot in our football minigame. Each token gives you a chance to score goals and win phenomenal prizes. The more tokens you earn\, the more chances you have to play and win! \nWhen you step up to the penalty spot for your first shot\, you’re in the group stage. As you score\, you’ll progress towards the final\, and if you manage to take it down\, you will win €20/€100/€500\, depending on the token tier. \nExcluded markets\n\n\n\n\n\n\n\n\n\nTerms and conditions\n\nThis promotion will run from 00:00 UTC on the 14th June 2024 till 23:59 UTC on the14th July 2024.\nYou can earn a maximum of 3 tokens per tier\, per day.\nYou can earn a maximum of 6 total tokens\, per day.\nPlayers from Denmark\, Belgium and Sweden can not take part in this promotion.\nPlayers from NL must actively opt in to the promotion in the poker client.\nWe reserve the right to change the promotion at any time.\nGeneral Unibet terms and conditions apply.\nIn the event of inconsistency between the English version and any other language version of the Terms and Conditions\, the English language version shall prevail\nIn the event of inconsistency between the Unibetpoker.com and Unibet.com Terms and Conditions\, the Unibet.com version shall prevail
URL:https://unibetpoker.com/event/summer-of-football-penalty-hero
CATEGORIES:Cash game promotion,HexaPro promotion,Promotions,SNG promotion
END:VEVENT
END:VCALENDAR