BEGIN:VCALENDAR
VERSION:2.0
PRODID:-//Unibet Poker - ECPv6.15.20//NONSGML v1.0//EN
CALSCALE:GREGORIAN
METHOD:PUBLISH
X-WR-CALNAME:Unibet Poker
X-ORIGINAL-URL:https://unibetpoker.com
X-WR-CALDESC:Events for Unibet Poker
REFRESH-INTERVAL;VALUE=DURATION:PT1H
X-Robots-Tag:noindex
X-PUBLISHED-TTL:PT1H
BEGIN:VTIMEZONE
TZID:UTC
BEGIN:STANDARD
TZOFFSETFROM:+0000
TZOFFSETTO:+0000
TZNAME:UTC
DTSTART:20230101T000000
END:STANDARD
END:VTIMEZONE
BEGIN:VEVENT
DTSTART;VALUE=DATE:20240901
DTEND;VALUE=DATE:20241001
DTSTAMP:20260425T142018
CREATED:20240716T102304Z
LAST-MODIFIED:20240716T102304Z
UID:2810-1725148800-1727740799@unibetpoker.com
SUMMARY:September Monthly Missions
DESCRIPTION:Monthly missions is the perfect promotion for any player that’s new to poker\, has a limited bankroll or just loves a good deal. The missions will\, more often than not\, offer a potential rakeback well over 100% (you get more value than the fees you’re paying to play). Whether they’ll be a profitable deal for you\, that’s all up to your skills at the poker table and the poker gods. \nJoin the action today to experience the thrill of conquering new challenges and claiming victory! \nHow it works\nMonthly missions generally have two levels: \n\nMission steps (usually 6-8 per month)\nIndividual missions (usually 3-4 per mission step)\n\nYou work on one mission step at a time – you can’t complete step 2\, before you’ve completed step 1 – which means you’ll normally have 3 missions active\, as you start on a new step. \nWhenever you complete a mission step\, you unlock one or multiple rewards. Reward examples: \n\nBonus points for the in-client bonus shop\nTournament ticket\nMTT freeroll ticket\nCash game ticket\nCasino free spins (without a wagering requirement)\nUnique avatars\nUnique table backgrounds\n\nThe missions can be anything from simply using an emoji at the table to winning 3 HexaPro tournaments or being dealt AA at a cash game table. \nExcluded markets\nPlayers from Latvia\, Denmark\, Sweden and Belgium are excluded from this promotion for regulatory reasons \nTerms and conditions\n\nMonthly mission run from the first day of the month 00:00 UTC to the last day of the month 23:59 UTC\nPlayers have until the last day of the month 23:59 UTC to complete any mission step\nThe mission steps are in UTC time zone\, a day starts at 00:00 and ends 23:59UTC\nThe €1000 GTD Mission Special Tournament starts the first Sunday the following calendar month at 17:30 UTC\nThe €3000 GTD Mission Special Tournament starts the first Sunday the following calendar month at 18:30 UTC\nCancelled or unusable free spins/cash spins will not be re-credited or compensated\nPlayers can only be credited each prize from the mission once\nThe mission is available in the poker client and open to all eligible players\nFree spins rewards will expire after 7 days. It is in the responsibility of the player to use the free spins on time. Expired free spins have no value\nWe reserve the right to change the promotion at any time\nIn the event of inconsistency or discrepancy between the English version and any other language version of these Terms and Conditions\, the English language version shall prevail.\nGeneral Unibet terms and conditions apply.
URL:https://unibetpoker.com/event/september-monthly-missions
CATEGORIES:Cash game promotion,HexaPro promotion,Promotions,SNG promotion,Tournament (MTT) promotion
END:VEVENT
END:VCALENDAR